BEGIN:VCALENDAR
VERSION:2.0
PRODID:-//ChamberMaster//Event Calendar 2.0//EN
METHOD:PUBLISH
X-PUBLISHED-TTL:P1H
REFRESH-INTERVAL:P1H
CALSCALE:GREGORIAN
BEGIN:VTIMEZONE
TZID:America/New_York
BEGIN:DAYLIGHT
RRULE:FREQ=YEARLY;BYMONTH=3;BYDAY=2SU
DTSTART:20070101T000000
TZOFFSETFROM:-0500
TZOFFSETTO:-0400
TZNAME:Eastern Daylight Time
END:DAYLIGHT
BEGIN:STANDARD
RRULE:FREQ=YEARLY;BYMONTH=11;BYDAY=1SU
DTSTART:20070101T000000
TZOFFSETFROM:-0400
TZOFFSETTO:-0500
TZNAME:Eastern Standard Time
END:STANDARD
END:VTIMEZONE
BEGIN:VEVENT
DTSTART;TZID=America/New_York:20251007T150000
DTEND;TZID=America/New_York:20251007T170000
X-MICROSOFT-CDO-ALLDAYEVENT:FALSE
SUMMARY:Lessons Learned: Mental Health of Entrepreneurs- Mentor Connect Event
DESCRIPTION:Join us for a great event with the Mentor Connect Community to discuss Mental Health and how it affects Entrepreneurs. Hear from other mentees and mentors on this topic. Location is below. Tuesday\, October 7th from 3-5 pm. The Pennovation Center is located at 3401 Grays Ferry Ave. Philadelphia PA. There is limited complementary parking on site if you choose to drive. The site is also accessible by SEPTA bus routes 12\, 49 and 64 service sites. Using a rideshare platform such as Uber and Lyft is also an option.
X-ALT-DESC;FMTTYPE=text/html:<!DOCTYPE html><html><head><title></title></head><body aria-disabled="false"><p>Join us for a great event with the Mentor Connect Community to discuss Mental Health and how it affects Entrepreneurs. Hear from other mentees and mentors on this topic. Location is below. Tuesday\, October 7th from 3-5 pm.&nbsp\;</p><p><span style="font-size: 16px\; font-family: Aptos\, Aptos_EmbeddedFont\, Aptos_MSFontService\, Calibri\, Helvetica\, sans-serif\;">The Pennovation Center is located at 3401 Grays Ferry Ave. Philadelphia PA. There is limited complementary parking on site if you choose to drive. The site is also accessible by SEPTA bus routes 12\, 49 and 64 service sites. Using a rideshare platform such as Uber and Lyft is also an option.</span></p><p><br></p></body></html>
LOCATION:3401 Grays Ferry Avenue Philadelphia 19146
UID:e.1774.1264519
SEQUENCE:3
DTSTAMP:20260425T174258Z
URL:https://members.philadelphiapact.com/eventcalendar/Details/lessons-learned-mental-health-of-entrepreneurs-mentor-connect-event-1480444?sourceTypeId=Hub
END:VEVENT
END:VCALENDAR
